BEGIN:VCALENDAR
PRODID:-//github.com/rianjs/ical.net//NONSGML ical.net 4.0//EN
VERSION:2.0
BEGIN:VTIMEZONE
TZID:Eastern Standard Time
X-LIC-LOCATION:America/New_York
BEGIN:STANDARD
DTSTART:20241103T020000
RRULE:FREQ=YEARLY;BYDAY=1SU;BYMONTH=11
TZNAME:EST
TZOFFSETFROM:-0400
TZOFFSETTO:-0500
END:STANDARD
BEGIN:DAYLIGHT
DTSTART:20250309T020000
RRULE:FREQ=YEARLY;BYDAY=2SU;BYMONTH=3
TZNAME:EDT
TZOFFSETFROM:-0500
TZOFFSETTO:-0400
END:DAYLIGHT
END:VTIMEZONE
BEGIN:VEVENT
DESCRIPTION:2023 Annual Meeting by the American Academy of Neurology\n\nTi
 tle: Diagnosis and Current Management of Cluster Headache and Other Prima
 ry Headache Disorders\n\nAccess URL: https://www.aan.com/msa/Public/Event
 s/GetEventURL/15399\n\nLearn More About This Event: https://www.aan.com/m
 sa/Public/Events/Details/15399
DTEND;TZID=Eastern Standard Time:20230423T150000
DTSTAMP:20260423T214039Z
DTSTART;TZID=Eastern Standard Time:20230423T130000
LOCATION:https://www.aan.com/msa/Public/Events/GetEventURL/15399
SEQUENCE:0
SUMMARY:AAN: Diagnosis and Current Management of Cluster Headache and Othe
 r Primary Headache Disorders
UID:987e201f-dae1-4b43-bdfb-dc48da45faf8
END:VEVENT
END:VCALENDAR
