BEGIN:VCALENDAR
PRODID:-//github.com/rianjs/ical.net//NONSGML ical.net 4.0//EN
VERSION:2.0
BEGIN:VTIMEZONE
TZID:Eastern Standard Time
X-LIC-LOCATION:America/New_York
BEGIN:STANDARD
DTSTART:20241103T020000
RRULE:FREQ=YEARLY;BYDAY=1SU;BYMONTH=11
TZNAME:EST
TZOFFSETFROM:-0400
TZOFFSETTO:-0500
END:STANDARD
BEGIN:DAYLIGHT
DTSTART:20250309T020000
RRULE:FREQ=YEARLY;BYDAY=2SU;BYMONTH=3
TZNAME:EDT
TZOFFSETFROM:-0500
TZOFFSETTO:-0400
END:DAYLIGHT
END:VTIMEZONE
BEGIN:VEVENT
DESCRIPTION:2023 Annual Meeting by the American Academy of Neurology\n\nTi
 tle: Perspectives on Disability in the History of Neurology\n\nAccess URL
 : https://www.aan.com/msa/Public/Events/GetEventURL/15401\n\nLearn More A
 bout This Event: https://www.aan.com/msa/Public/Events/Details/15401
DTEND;TZID=Eastern Standard Time:20230424T150000
DTSTAMP:20260423T213635Z
DTSTART;TZID=Eastern Standard Time:20230424T130000
LOCATION:https://www.aan.com/msa/Public/Events/GetEventURL/15401
SEQUENCE:0
SUMMARY:AAN: Perspectives on Disability in the History of Neurology
UID:e7a7dc99-626d-471c-adfd-d060dd236bdc
END:VEVENT
END:VCALENDAR
