BEGIN:VCALENDAR
PRODID:-//github.com/rianjs/ical.net//NONSGML ical.net 4.0//EN
VERSION:2.0
BEGIN:VTIMEZONE
TZID:Eastern Standard Time
X-LIC-LOCATION:America/New_York
BEGIN:STANDARD
DTSTART:20241103T020000
RRULE:FREQ=YEARLY;BYDAY=1SU;BYMONTH=11
TZNAME:EST
TZOFFSETFROM:-0400
TZOFFSETTO:-0500
END:STANDARD
BEGIN:DAYLIGHT
DTSTART:20250309T020000
RRULE:FREQ=YEARLY;BYDAY=2SU;BYMONTH=3
TZNAME:EDT
TZOFFSETFROM:-0500
TZOFFSETTO:-0400
END:DAYLIGHT
END:VTIMEZONE
BEGIN:VEVENT
DESCRIPTION:2023 Annual Meeting by the American Academy of Neurology\n\nTi
 tle: Skills Workshop: Neuro-ophthalmology and Neuro-vestibular Exam Lab\n
 \nAccess URL: https://www.aan.com/msa/Public/Events/GetEventURL/15402\n\n
 Learn More About This Event: https://www.aan.com/msa/Public/Events/Detail
 s/15402
DTEND;TZID=Eastern Standard Time:20230424T173000
DTSTAMP:20260424T053454Z
DTSTART;TZID=Eastern Standard Time:20230424T130000
LOCATION:https://www.aan.com/msa/Public/Events/GetEventURL/15402
SEQUENCE:0
SUMMARY:AAN: Skills Workshop: Neuro-ophthalmology and Neuro-vestibular Exa
 m Lab
UID:56227b59-124f-4422-8f93-23e1d9980dca
END:VEVENT
END:VCALENDAR
