BEGIN:VCALENDAR
PRODID:-//github.com/rianjs/ical.net//NONSGML ical.net 4.0//EN
VERSION:2.0
BEGIN:VTIMEZONE
TZID:Eastern Standard Time
X-LIC-LOCATION:America/New_York
BEGIN:STANDARD
DTSTART:20241103T020000
RRULE:FREQ=YEARLY;BYDAY=1SU;BYMONTH=11
TZNAME:EST
TZOFFSETFROM:-0400
TZOFFSETTO:-0500
END:STANDARD
BEGIN:DAYLIGHT
DTSTART:20250309T020000
RRULE:FREQ=YEARLY;BYDAY=2SU;BYMONTH=3
TZNAME:EDT
TZOFFSETFROM:-0500
TZOFFSETTO:-0400
END:DAYLIGHT
END:VTIMEZONE
BEGIN:VEVENT
DESCRIPTION:2023 Annual Meeting by the American Academy of Neurology\n\nTi
 tle: Comprehensive Migraine Update: Advances in Acute\, Preventive\, and 
 Cognitive Behavioral Therapies\n\nAccess URL: https://www.aan.com/msa/Pub
 lic/Events/GetEventURL/15403\n\nLearn More About This Event: https://www.
 aan.com/msa/Public/Events/Details/15403
DTEND;TZID=Eastern Standard Time:20230425T150000
DTSTAMP:20260424T053155Z
DTSTART;TZID=Eastern Standard Time:20230425T130000
LOCATION:https://www.aan.com/msa/Public/Events/GetEventURL/15403
SEQUENCE:0
SUMMARY:AAN: Comprehensive Migraine Update: Advances in Acute\, Preventive
 \, and Cognitive Behavioral Therapies
UID:f96dd494-3a61-4aef-a289-823a6613e327
END:VEVENT
END:VCALENDAR
