BEGIN:VCALENDAR
PRODID:-//github.com/rianjs/ical.net//NONSGML ical.net 4.0//EN
VERSION:2.0
BEGIN:VTIMEZONE
TZID:Eastern Standard Time
X-LIC-LOCATION:America/New_York
BEGIN:STANDARD
DTSTART:20241103T020000
RRULE:FREQ=YEARLY;BYDAY=1SU;BYMONTH=11
TZNAME:EST
TZOFFSETFROM:-0400
TZOFFSETTO:-0500
END:STANDARD
BEGIN:DAYLIGHT
DTSTART:20250309T020000
RRULE:FREQ=YEARLY;BYDAY=2SU;BYMONTH=3
TZNAME:EDT
TZOFFSETFROM:-0500
TZOFFSETTO:-0400
END:DAYLIGHT
END:VTIMEZONE
BEGIN:VEVENT
DESCRIPTION:2023 Annual Meeting by the American Academy of Neurology\n\nTi
 tle: Therapy in Neurology 2: Epilepsy\, Infections\, and Parkinson's Dise
 ase\n\nAccess URL: https://www.aan.com/msa/Public/Events/GetEventURL/1540
 5\n\nLearn More About This Event: https://www.aan.com/msa/Public/Events/D
 etails/15405
DTEND;TZID=Eastern Standard Time:20230425T173000
DTSTAMP:20260424T053423Z
DTSTART;TZID=Eastern Standard Time:20230425T153000
LOCATION:https://www.aan.com/msa/Public/Events/GetEventURL/15405
SEQUENCE:0
SUMMARY:AAN: Therapy in Neurology 2: Epilepsy\, Infections\, and Parkinson
 's Disease
UID:1944006f-44b1-4434-b0eb-433707dd17b9
END:VEVENT
END:VCALENDAR
