BEGIN:VCALENDAR
PRODID:-//github.com/rianjs/ical.net//NONSGML ical.net 4.0//EN
VERSION:2.0
BEGIN:VTIMEZONE
TZID:Eastern Standard Time
X-LIC-LOCATION:America/New_York
BEGIN:STANDARD
DTSTART:20241103T020000
RRULE:FREQ=YEARLY;BYDAY=1SU;BYMONTH=11
TZNAME:EST
TZOFFSETFROM:-0400
TZOFFSETTO:-0500
END:STANDARD
BEGIN:DAYLIGHT
DTSTART:20250309T020000
RRULE:FREQ=YEARLY;BYDAY=2SU;BYMONTH=3
TZNAME:EDT
TZOFFSETFROM:-0500
TZOFFSETTO:-0400
END:DAYLIGHT
END:VTIMEZONE
BEGIN:VEVENT
DESCRIPTION:2023 Annual Meeting by the American Academy of Neurology\n\nTi
 tle: Low and High Pressure Headache: Clinical Presentation and Approach t
 o Evaluation and Management\n\nAccess URL: https://www.aan.com/msa/Public
 /Events/GetEventURL/15406\n\nLearn More About This Event: https://www.aan
 .com/msa/Public/Events/Details/15406
DTEND;TZID=Eastern Standard Time:20230426T090000
DTSTAMP:20260424T070417Z
DTSTART;TZID=Eastern Standard Time:20230426T070000
LOCATION:https://www.aan.com/msa/Public/Events/GetEventURL/15406
SEQUENCE:0
SUMMARY:AAN: Low and High Pressure Headache: Clinical Presentation and App
 roach to Evaluation and Management
UID:6ba1e864-e415-4ce6-b4cd-70c87ec7028e
END:VEVENT
END:VCALENDAR
