BEGIN:VCALENDAR
PRODID:-//github.com/rianjs/ical.net//NONSGML ical.net 4.0//EN
VERSION:2.0
BEGIN:VTIMEZONE
TZID:Eastern Standard Time
X-LIC-LOCATION:America/New_York
BEGIN:STANDARD
DTSTART:20241103T020000
RRULE:FREQ=YEARLY;BYDAY=1SU;BYMONTH=11
TZNAME:EST
TZOFFSETFROM:-0400
TZOFFSETTO:-0500
END:STANDARD
BEGIN:DAYLIGHT
DTSTART:20250309T020000
RRULE:FREQ=YEARLY;BYDAY=2SU;BYMONTH=3
TZNAME:EDT
TZOFFSETFROM:-0500
TZOFFSETTO:-0400
END:DAYLIGHT
END:VTIMEZONE
BEGIN:VEVENT
DESCRIPTION:2023 Annual Meeting by the American Academy of Neurology\n\nTi
 tle: Clinical Pearls: Learning from Complex Cases Simple Lessons that App
 ly to Everyday Problems\n\nAccess URL: https://www.aan.com/msa/Public/Eve
 nts/GetEventURL/15412\n\nLearn More About This Event: https://www.aan.com
 /msa/Public/Events/Details/15412
DTEND;TZID=Eastern Standard Time:20230422T164500
DTSTAMP:20260424T053424Z
DTSTART;TZID=Eastern Standard Time:20230422T144500
LOCATION:https://www.aan.com/msa/Public/Events/GetEventURL/15412
SEQUENCE:0
SUMMARY:AAN: Clinical Pearls: Learning from Complex Cases Simple Lessons t
 hat Apply to Everyday Problems
UID:f6135872-2515-4d54-973b-86344c098e58
END:VEVENT
END:VCALENDAR
