BEGIN:VCALENDAR
PRODID:-//github.com/rianjs/ical.net//NONSGML ical.net 4.0//EN
VERSION:2.0
BEGIN:VTIMEZONE
TZID:Eastern Standard Time
X-LIC-LOCATION:America/New_York
BEGIN:STANDARD
DTSTART:20241103T020000
RRULE:FREQ=YEARLY;BYDAY=1SU;BYMONTH=11
TZNAME:EST
TZOFFSETFROM:-0400
TZOFFSETTO:-0500
END:STANDARD
BEGIN:DAYLIGHT
DTSTART:20250309T020000
RRULE:FREQ=YEARLY;BYDAY=2SU;BYMONTH=3
TZNAME:EDT
TZOFFSETFROM:-0500
TZOFFSETTO:-0400
END:DAYLIGHT
END:VTIMEZONE
BEGIN:VEVENT
DESCRIPTION:2023 Annual Meeting by the American Academy of Neurology\n\nTi
 tle: Neuroscience in the Clinic: Predicting\, Evaluating\, and Modifying 
 Risk of Delirium\n\nAccess URL: https://www.aan.com/msa/Public/Events/Get
 EventURL/15435\n\nLearn More About This Event: https://www.aan.com/msa/Pu
 blic/Events/Details/15435
DTEND;TZID=Eastern Standard Time:20230422T141500
DTSTAMP:20260423T213749Z
DTSTART;TZID=Eastern Standard Time:20230422T121500
LOCATION:https://www.aan.com/msa/Public/Events/GetEventURL/15435
SEQUENCE:0
SUMMARY:AAN: Neuroscience in the Clinic: Predicting\, Evaluating\, and Mod
 ifying Risk of Delirium
UID:1399aadc-7b00-40f3-abec-45c1d554c2cc
END:VEVENT
END:VCALENDAR
