BEGIN:VCALENDAR
PRODID:-//github.com/rianjs/ical.net//NONSGML ical.net 4.0//EN
VERSION:2.0
BEGIN:VTIMEZONE
TZID:Eastern Standard Time
X-LIC-LOCATION:America/New_York
BEGIN:STANDARD
DTSTART:20241103T020000
RRULE:FREQ=YEARLY;BYDAY=1SU;BYMONTH=11
TZNAME:EST
TZOFFSETFROM:-0400
TZOFFSETTO:-0500
END:STANDARD
BEGIN:DAYLIGHT
DTSTART:20250309T020000
RRULE:FREQ=YEARLY;BYDAY=2SU;BYMONTH=3
TZNAME:EDT
TZOFFSETFROM:-0500
TZOFFSETTO:-0400
END:DAYLIGHT
END:VTIMEZONE
BEGIN:VEVENT
DESCRIPTION:2023 Annual Meeting by the American Academy of Neurology\n\nTi
 tle: Neuroscience in the Clinic: Myasthenia Gravis: From Pathogenesis to 
 Targeted Therapies\n\nAccess URL: https://www.aan.com/msa/Public/Events/G
 etEventURL/15440\n\nLearn More About This Event: https://www.aan.com/msa/
 Public/Events/Details/15440
DTEND;TZID=Eastern Standard Time:20230427T173000
DTSTAMP:20260423T213814Z
DTSTART;TZID=Eastern Standard Time:20230427T153000
LOCATION:https://www.aan.com/msa/Public/Events/GetEventURL/15440
SEQUENCE:0
SUMMARY:AAN: Neuroscience in the Clinic: Myasthenia Gravis: From Pathogene
 sis to Targeted Therapies
UID:f0d5bf48-c06b-49fd-a904-d1a67e050796
END:VEVENT
END:VCALENDAR
