BEGIN:VCALENDAR
PRODID:-//github.com/rianjs/ical.net//NONSGML ical.net 4.0//EN
VERSION:2.0
BEGIN:VTIMEZONE
TZID:Pacific Standard Time
X-LIC-LOCATION:America/Los_Angeles
BEGIN:STANDARD
DTSTART:20241103T020000
RRULE:FREQ=YEARLY;BYDAY=1SU;BYMONTH=11
TZNAME:PST
TZOFFSETFROM:-0700
TZOFFSETTO:-0800
END:STANDARD
BEGIN:DAYLIGHT
DTSTART:20250309T020000
RRULE:FREQ=YEARLY;BYDAY=2SU;BYMONTH=3
TZNAME:PDT
TZOFFSETFROM:-0800
TZOFFSETTO:-0700
END:DAYLIGHT
END:VTIMEZONE
BEGIN:VEVENT
DESCRIPTION:2022 Fall Conference by the American Academy of Neurology\n\nT
 itle: Basic Science: Neuropharmacology 1\n\nAccess URL: https://www.aan.c
 om/msa/Public/Events/GetEventURL/15446\n\nLearn More About This Event: ht
 tps://www.aan.com/msa/Public/Events/Details/15446
DTEND;TZID=Pacific Standard Time:20221028T124500
DTSTAMP:20260424T054209Z
DTSTART;TZID=Pacific Standard Time:20221028T114500
LOCATION:https://www.aan.com/msa/Public/Events/GetEventURL/15446
SEQUENCE:0
SUMMARY:AAN: Basic Science: Neuropharmacology 1
UID:08504c4c-402d-4902-bf87-41271edbfb2c
END:VEVENT
END:VCALENDAR
