BEGIN:VCALENDAR
PRODID:-//github.com/rianjs/ical.net//NONSGML ical.net 4.0//EN
VERSION:2.0
BEGIN:VTIMEZONE
TZID:Eastern Standard Time
X-LIC-LOCATION:America/New_York
BEGIN:STANDARD
DTSTART:20241103T020000
RRULE:FREQ=YEARLY;BYDAY=1SU;BYMONTH=11
TZNAME:EST
TZOFFSETFROM:-0400
TZOFFSETTO:-0500
END:STANDARD
BEGIN:DAYLIGHT
DTSTART:20250309T020000
RRULE:FREQ=YEARLY;BYDAY=2SU;BYMONTH=3
TZNAME:EDT
TZOFFSETFROM:-0500
TZOFFSETTO:-0400
END:DAYLIGHT
END:VTIMEZONE
BEGIN:VEVENT
DESCRIPTION:2023 Annual Meeting by the American Academy of Neurology\n\nTi
 tle: Invited Science: Multiple Sclerosis\n\nAccess URL: https://www.aan.c
 om/msa/Public/Events/GetEventURL/15457\n\nLearn More About This Event: ht
 tps://www.aan.com/msa/Public/Events/Details/15457
DTEND;TZID=Eastern Standard Time:20230423T173000
DTSTAMP:20260424T070417Z
DTSTART;TZID=Eastern Standard Time:20230423T153000
LOCATION:https://www.aan.com/msa/Public/Events/GetEventURL/15457
SEQUENCE:0
SUMMARY:AAN: Invited Science: Multiple Sclerosis
UID:882b9eda-4fda-47cb-91f3-99f3a776e5f0
END:VEVENT
END:VCALENDAR
