BEGIN:VCALENDAR
PRODID:-//github.com/rianjs/ical.net//NONSGML ical.net 4.0//EN
VERSION:2.0
BEGIN:VTIMEZONE
TZID:Eastern Standard Time
X-LIC-LOCATION:America/New_York
BEGIN:STANDARD
DTSTART:20241103T020000
RRULE:FREQ=YEARLY;BYDAY=1SU;BYMONTH=11
TZNAME:EST
TZOFFSETFROM:-0400
TZOFFSETTO:-0500
END:STANDARD
BEGIN:DAYLIGHT
DTSTART:20250309T020000
RRULE:FREQ=YEARLY;BYDAY=2SU;BYMONTH=3
TZNAME:EDT
TZOFFSETFROM:-0500
TZOFFSETTO:-0400
END:DAYLIGHT
END:VTIMEZONE
BEGIN:VEVENT
DESCRIPTION:2023 Annual Meeting by the American Academy of Neurology\n\nTi
 tle: Wake Up to Daytime Sleepiness: New and Emerging Concepts in the Diag
 nosis and Treatment of  Hypersomnia Disorders\n\nAccess URL: https://www.
 aan.com/msa/Public/Events/GetEventURL/15521\n\nLearn More About This Even
 t: https://www.aan.com/msa/Public/Events/Details/15521
DTEND;TZID=Eastern Standard Time:20230424T090000
DTSTAMP:20260424T053158Z
DTSTART;TZID=Eastern Standard Time:20230424T080000
LOCATION:https://www.aan.com/msa/Public/Events/GetEventURL/15521
SEQUENCE:0
SUMMARY:AAN: Wake Up to Daytime Sleepiness: New and Emerging Concepts in t
 he Diagnosis and Treatment of  Hypersomnia Disorders
UID:8ea6de9d-7dd4-40a1-802b-7b13aee73acd
END:VEVENT
END:VCALENDAR
