BEGIN:VCALENDAR
PRODID:-//github.com/rianjs/ical.net//NONSGML ical.net 4.0//EN
VERSION:2.0
BEGIN:VTIMEZONE
TZID:Eastern Standard Time
X-LIC-LOCATION:America/New_York
BEGIN:STANDARD
DTSTART:20241103T020000
RRULE:FREQ=YEARLY;BYDAY=1SU;BYMONTH=11
TZNAME:EST
TZOFFSETFROM:-0400
TZOFFSETTO:-0500
END:STANDARD
BEGIN:DAYLIGHT
DTSTART:20250309T020000
RRULE:FREQ=YEARLY;BYDAY=2SU;BYMONTH=3
TZNAME:EDT
TZOFFSETFROM:-0500
TZOFFSETTO:-0400
END:DAYLIGHT
END:VTIMEZONE
BEGIN:VEVENT
DESCRIPTION:2023 Annual Meeting by the American Academy of Neurology\n\nTi
 tle: Dopaminergic Therapy for Motor Symptoms in Early Parkinson's Disease
 \n\nAccess URL: https://www.aan.com/msa/Public/Events/GetEventURL/15524\n
 \nLearn More About This Event: https://www.aan.com/msa/Public/Events/Deta
 ils/15524
DTEND;TZID=Eastern Standard Time:20230424T121500
DTSTAMP:20260424T053157Z
DTSTART;TZID=Eastern Standard Time:20230424T111500
LOCATION:https://www.aan.com/msa/Public/Events/GetEventURL/15524
SEQUENCE:0
SUMMARY:AAN: Dopaminergic Therapy for Motor Symptoms in Early Parkinson's 
 Disease
UID:067d1945-07e2-4a29-b389-46e5057523a5
END:VEVENT
END:VCALENDAR
