BEGIN:VCALENDAR
PRODID:-//github.com/rianjs/ical.net//NONSGML ical.net 4.0//EN
VERSION:2.0
BEGIN:VTIMEZONE
TZID:Eastern Standard Time
X-LIC-LOCATION:America/New_York
BEGIN:STANDARD
DTSTART:20241103T020000
RRULE:FREQ=YEARLY;BYDAY=1SU;BYMONTH=11
TZNAME:EST
TZOFFSETFROM:-0400
TZOFFSETTO:-0500
END:STANDARD
BEGIN:DAYLIGHT
DTSTART:20250309T020000
RRULE:FREQ=YEARLY;BYDAY=2SU;BYMONTH=3
TZNAME:EDT
TZOFFSETFROM:-0500
TZOFFSETTO:-0400
END:DAYLIGHT
END:VTIMEZONE
BEGIN:VEVENT
DESCRIPTION:2023 Annual Meeting by the American Academy of Neurology\n\nTi
 tle: Case Studies in Integrative Neurology: New Approaches to Challenging
  Neurologic Conditions\n\nAccess URL: https://www.aan.com/msa/Public/Even
 ts/GetEventURL/15527\n\nLearn More About This Event: https://www.aan.com/
 msa/Public/Events/Details/15527
DTEND;TZID=Eastern Standard Time:20230424T121500
DTSTAMP:20260424T053159Z
DTSTART;TZID=Eastern Standard Time:20230424T111500
LOCATION:https://www.aan.com/msa/Public/Events/GetEventURL/15527
SEQUENCE:0
SUMMARY:AAN: Case Studies in Integrative Neurology: New Approaches to Chal
 lenging Neurologic Conditions
UID:6c5a4c35-4863-4859-80ac-075152f8ad9e
END:VEVENT
END:VCALENDAR
