BEGIN:VCALENDAR
PRODID:-//github.com/rianjs/ical.net//NONSGML ical.net 4.0//EN
VERSION:2.0
BEGIN:VTIMEZONE
TZID:Eastern Standard Time
X-LIC-LOCATION:America/New_York
BEGIN:STANDARD
DTSTART:20241103T020000
RRULE:FREQ=YEARLY;BYDAY=1SU;BYMONTH=11
TZNAME:EST
TZOFFSETFROM:-0400
TZOFFSETTO:-0500
END:STANDARD
BEGIN:DAYLIGHT
DTSTART:20250309T020000
RRULE:FREQ=YEARLY;BYDAY=2SU;BYMONTH=3
TZNAME:EDT
TZOFFSETFROM:-0500
TZOFFSETTO:-0400
END:DAYLIGHT
END:VTIMEZONE
BEGIN:VEVENT
DESCRIPTION:2023 Annual Meeting by the American Academy of Neurology\n\nTi
 tle: Exhibit Hall Networking Crawl\n\nDescription: The 2023 AAN Annual Me
 eting Networking Crawl will take attendees around the hall on a walking f
 ood tour to different delicious stations allowing them to discover new cu
 isines and new contacts! \n\nLearn More About This Event: https://www.aan
 .com/msa/Public/Events/Details/15540
DTEND;TZID=Eastern Standard Time:20230424T180000
DTSTAMP:20260424T053157Z
DTSTART;TZID=Eastern Standard Time:20230424T160000
LOCATION:https://www.aan.com/msa/Public/Events/GetEventURL/15540
SEQUENCE:0
SUMMARY:AAN: Exhibit Hall Networking Crawl
UID:d07e35d9-2dc9-4846-b939-32a9b26c521e
END:VEVENT
END:VCALENDAR
