BEGIN:VCALENDAR
PRODID:-//github.com/rianjs/ical.net//NONSGML ical.net 4.0//EN
VERSION:2.0
BEGIN:VTIMEZONE
TZID:Eastern Standard Time
X-LIC-LOCATION:America/New_York
BEGIN:STANDARD
DTSTART:20241103T020000
RRULE:FREQ=YEARLY;BYDAY=1SU;BYMONTH=11
TZNAME:EST
TZOFFSETFROM:-0400
TZOFFSETTO:-0500
END:STANDARD
BEGIN:DAYLIGHT
DTSTART:20250309T020000
RRULE:FREQ=YEARLY;BYDAY=2SU;BYMONTH=3
TZNAME:EDT
TZOFFSETFROM:-0500
TZOFFSETTO:-0400
END:DAYLIGHT
END:VTIMEZONE
BEGIN:VEVENT
DESCRIPTION:2023 Annual Meeting by the American Academy of Neurology\n\nTi
 tle: The APP Can Do That: A Guide to Utilizing Your Advanced Practice Pro
 vider (Wellness Hub)\n\nAccess URL: https://www.aan.com/msa/Public/Events
 /GetEventURL/15587\n\nLearn More About This Event: https://www.aan.com/ms
 a/Public/Events/Details/15587
DTEND;TZID=Eastern Standard Time:20230425T083000
DTSTAMP:20260423T213942Z
DTSTART;TZID=Eastern Standard Time:20230425T080000
LOCATION:https://www.aan.com/msa/Public/Events/GetEventURL/15587
SEQUENCE:0
SUMMARY:AAN: The APP Can Do That: A Guide to Utilizing Your Advanced Pract
 ice Provider (Wellness Hub)
UID:ff7bc6fe-4d1e-4a8c-b854-d56ffc58a666
END:VEVENT
END:VCALENDAR
