BEGIN:VCALENDAR
PRODID:-//github.com/rianjs/ical.net//NONSGML ical.net 4.0//EN
VERSION:2.0
BEGIN:VTIMEZONE
TZID:Eastern Standard Time
X-LIC-LOCATION:America/New_York
BEGIN:STANDARD
DTSTART:20241103T020000
RRULE:FREQ=YEARLY;BYDAY=1SU;BYMONTH=11
TZNAME:EST
TZOFFSETFROM:-0400
TZOFFSETTO:-0500
END:STANDARD
BEGIN:DAYLIGHT
DTSTART:20250309T020000
RRULE:FREQ=YEARLY;BYDAY=2SU;BYMONTH=3
TZNAME:EDT
TZOFFSETFROM:-0500
TZOFFSETTO:-0400
END:DAYLIGHT
END:VTIMEZONE
BEGIN:VEVENT
DESCRIPTION:2023 Annual Meeting by the American Academy of Neurology\n\nTi
 tle: Cooking for Wellness Demonstration: Salsa Verde (Wellness Hub)\n\nAc
 cess URL: https://www.aan.com/msa/Public/Events/GetEventURL/15592\n\nLear
 n More About This Event: https://www.aan.com/msa/Public/Events/Details/15
 592
DTEND;TZID=Eastern Standard Time:20230424T123000
DTSTAMP:20260424T053510Z
DTSTART;TZID=Eastern Standard Time:20230424T120000
LOCATION:https://www.aan.com/msa/Public/Events/GetEventURL/15592
SEQUENCE:0
SUMMARY:AAN: Cooking for Wellness Demonstration: Salsa Verde (Wellness Hub)
UID:acd8eaec-90f5-477e-93f6-7d9b9d99f206
END:VEVENT
END:VCALENDAR
