BEGIN:VCALENDAR
PRODID:-//github.com/rianjs/ical.net//NONSGML ical.net 4.0//EN
VERSION:2.0
BEGIN:VTIMEZONE
TZID:Eastern Standard Time
X-LIC-LOCATION:America/New_York
BEGIN:STANDARD
DTSTART:20241103T020000
RRULE:FREQ=YEARLY;BYDAY=1SU;BYMONTH=11
TZNAME:EST
TZOFFSETFROM:-0400
TZOFFSETTO:-0500
END:STANDARD
BEGIN:DAYLIGHT
DTSTART:20250309T020000
RRULE:FREQ=YEARLY;BYDAY=2SU;BYMONTH=3
TZNAME:EDT
TZOFFSETFROM:-0500
TZOFFSETTO:-0400
END:DAYLIGHT
END:VTIMEZONE
BEGIN:VEVENT
DESCRIPTION:2023 Annual Meeting by the American Academy of Neurology\n\nTi
 tle: The Power of Lifestyle Medicine (Wellness Hub)\n\nAccess URL: https:
 //www.aan.com/msa/Public/Events/GetEventURL/15593\n\nLearn More About Thi
 s Event: https://www.aan.com/msa/Public/Events/Details/15593
DTEND;TZID=Eastern Standard Time:20230424T143000
DTSTAMP:20260424T053155Z
DTSTART;TZID=Eastern Standard Time:20230424T140000
LOCATION:https://www.aan.com/msa/Public/Events/GetEventURL/15593
SEQUENCE:0
SUMMARY:AAN: The Power of Lifestyle Medicine (Wellness Hub)
UID:a49a7f6d-7582-42cf-843f-7d1f2c025332
END:VEVENT
END:VCALENDAR
