BEGIN:VCALENDAR
PRODID:-//github.com/rianjs/ical.net//NONSGML ical.net 4.0//EN
VERSION:2.0
BEGIN:VTIMEZONE
TZID:Eastern Standard Time
X-LIC-LOCATION:America/New_York
BEGIN:STANDARD
DTSTART:20241103T020000
RRULE:FREQ=YEARLY;BYDAY=1SU;BYMONTH=11
TZNAME:EST
TZOFFSETFROM:-0400
TZOFFSETTO:-0500
END:STANDARD
BEGIN:DAYLIGHT
DTSTART:20250309T020000
RRULE:FREQ=YEARLY;BYDAY=2SU;BYMONTH=3
TZNAME:EDT
TZOFFSETFROM:-0500
TZOFFSETTO:-0400
END:DAYLIGHT
END:VTIMEZONE
BEGIN:VEVENT
DESCRIPTION:2023 Annual Meeting by the American Academy of Neurology\n\nTi
 tle: Q&A with a Chief Wellness Officer (Wellness Hub)\n\nAccess URL: http
 s://www.aan.com/msa/Public/Events/GetEventURL/15599\n\nLearn More About T
 his Event: https://www.aan.com/msa/Public/Events/Details/15599
DTEND;TZID=Eastern Standard Time:20230426T133000
DTSTAMP:20260423T213201Z
DTSTART;TZID=Eastern Standard Time:20230426T130000
LOCATION:https://www.aan.com/msa/Public/Events/GetEventURL/15599
SEQUENCE:0
SUMMARY:AAN: Q&A with a Chief Wellness Officer (Wellness Hub)
UID:19140179-b2e5-4770-9d86-032e76daf15a
END:VEVENT
END:VCALENDAR
