BEGIN:VCALENDAR
PRODID:-//github.com/rianjs/ical.net//NONSGML ical.net 4.0//EN
VERSION:2.0
BEGIN:VTIMEZONE
TZID:Eastern Standard Time
X-LIC-LOCATION:America/New_York
BEGIN:STANDARD
DTSTART:20241103T020000
RRULE:FREQ=YEARLY;BYDAY=1SU;BYMONTH=11
TZNAME:EST
TZOFFSETFROM:-0400
TZOFFSETTO:-0500
END:STANDARD
BEGIN:DAYLIGHT
DTSTART:20250309T020000
RRULE:FREQ=YEARLY;BYDAY=2SU;BYMONTH=3
TZNAME:EDT
TZOFFSETFROM:-0500
TZOFFSETTO:-0400
END:DAYLIGHT
END:VTIMEZONE
BEGIN:VEVENT
DESCRIPTION:2023 Annual Meeting by the American Academy of Neurology\n\nTi
 tle: Veni\, Vidi\, Scribivi: I Came\, I Saw\, I Wrote (Wellness Hub)\n\nA
 ccess URL: https://www.aan.com/msa/Public/Events/GetEventURL/15600\n\nLea
 rn More About This Event: https://www.aan.com/msa/Public/Events/Details/1
 5600
DTEND;TZID=Eastern Standard Time:20230422T163000
DTSTAMP:20260424T070523Z
DTSTART;TZID=Eastern Standard Time:20230422T160000
LOCATION:https://www.aan.com/msa/Public/Events/GetEventURL/15600
SEQUENCE:0
SUMMARY:AAN: Veni\, Vidi\, Scribivi: I Came\, I Saw\, I Wrote (Wellness Hu
 b)
UID:9f0d3c82-5f33-433d-a6c9-848afce60ad5
END:VEVENT
END:VCALENDAR
