BEGIN:VCALENDAR
PRODID:-//github.com/rianjs/ical.net//NONSGML ical.net 4.0//EN
VERSION:2.0
BEGIN:VTIMEZONE
TZID:Eastern Standard Time
X-LIC-LOCATION:America/New_York
BEGIN:STANDARD
DTSTART:20241103T020000
RRULE:FREQ=YEARLY;BYDAY=1SU;BYMONTH=11
TZNAME:EST
TZOFFSETFROM:-0400
TZOFFSETTO:-0500
END:STANDARD
BEGIN:DAYLIGHT
DTSTART:20250309T020000
RRULE:FREQ=YEARLY;BYDAY=2SU;BYMONTH=3
TZNAME:EDT
TZOFFSETFROM:-0500
TZOFFSETTO:-0400
END:DAYLIGHT
END:VTIMEZONE
BEGIN:VEVENT
DESCRIPTION:2023 Annual Meeting by the American Academy of Neurology\n\nTi
 tle: Behavioral and Cognitive Neurology\n\nAccess URL: https://www.aan.co
 m/msa/Public/Events/GetEventURL/15615\n\nLearn More About This Event: htt
 ps://www.aan.com/msa/Public/Events/Details/15615
DTEND;TZID=Eastern Standard Time:20230423T173000
DTSTAMP:20260423T213944Z
DTSTART;TZID=Eastern Standard Time:20230423T153000
LOCATION:https://www.aan.com/msa/Public/Events/GetEventURL/15615
SEQUENCE:0
SUMMARY:AAN: Behavioral and Cognitive Neurology
UID:5c0f5ac8-bd75-400d-ac98-3db6407f4801
END:VEVENT
END:VCALENDAR
