BEGIN:VCALENDAR
PRODID:-//github.com/rianjs/ical.net//NONSGML ical.net 4.0//EN
VERSION:2.0
BEGIN:VTIMEZONE
TZID:Eastern Standard Time
X-LIC-LOCATION:America/New_York
BEGIN:STANDARD
DTSTART:20241103T020000
RRULE:FREQ=YEARLY;BYDAY=1SU;BYMONTH=11
TZNAME:EST
TZOFFSETFROM:-0400
TZOFFSETTO:-0500
END:STANDARD
BEGIN:DAYLIGHT
DTSTART:20250309T020000
RRULE:FREQ=YEARLY;BYDAY=2SU;BYMONTH=3
TZNAME:EDT
TZOFFSETFROM:-0500
TZOFFSETTO:-0400
END:DAYLIGHT
END:VTIMEZONE
BEGIN:VEVENT
DESCRIPTION:2023 Annual Meeting by the American Academy of Neurology\n\nTi
 tle: Utilizing Varied Modalities to Impact Learning and Make Curricular C
 hanges\n\nAccess URL: https://www.aan.com/msa/Public/Events/GetEventURL/1
 5617\n\nLearn More About This Event: https://www.aan.com/msa/Public/Event
 s/Details/15617
DTEND;TZID=Eastern Standard Time:20230423T173000
DTSTAMP:20260424T053301Z
DTSTART;TZID=Eastern Standard Time:20230423T153000
LOCATION:https://www.aan.com/msa/Public/Events/GetEventURL/15617
SEQUENCE:0
SUMMARY:AAN: Utilizing Varied Modalities to Impact Learning and Make Curri
 cular Changes
UID:18d90d5a-5332-44b2-a4a8-eb25ab88c5bd
END:VEVENT
END:VCALENDAR
