BEGIN:VCALENDAR
PRODID:-//github.com/rianjs/ical.net//NONSGML ical.net 4.0//EN
VERSION:2.0
BEGIN:VTIMEZONE
TZID:Eastern Standard Time
X-LIC-LOCATION:America/New_York
BEGIN:STANDARD
DTSTART:20241103T020000
RRULE:FREQ=YEARLY;BYDAY=1SU;BYMONTH=11
TZNAME:EST
TZOFFSETFROM:-0400
TZOFFSETTO:-0500
END:STANDARD
BEGIN:DAYLIGHT
DTSTART:20250309T020000
RRULE:FREQ=YEARLY;BYDAY=2SU;BYMONTH=3
TZNAME:EDT
TZOFFSETFROM:-0500
TZOFFSETTO:-0400
END:DAYLIGHT
END:VTIMEZONE
BEGIN:VEVENT
DESCRIPTION:2023 Annual Meeting by the American Academy of Neurology\n\nTi
 tle: Practice\, Policy\, and Ethics\n\nAccess URL: https://www.aan.com/ms
 a/Public/Events/GetEventURL/15618\n\nLearn More About This Event: https:/
 /www.aan.com/msa/Public/Events/Details/15618
DTEND;TZID=Eastern Standard Time:20230424T121500
DTSTAMP:20260424T053301Z
DTSTART;TZID=Eastern Standard Time:20230424T111500
LOCATION:https://www.aan.com/msa/Public/Events/GetEventURL/15618
SEQUENCE:0
SUMMARY:AAN: Practice\, Policy\, and Ethics
UID:3121c422-c7c4-4d2a-91b1-0cc32865d359
END:VEVENT
END:VCALENDAR
