BEGIN:VCALENDAR
PRODID:-//github.com/rianjs/ical.net//NONSGML ical.net 4.0//EN
VERSION:2.0
BEGIN:VTIMEZONE
TZID:Eastern Standard Time
X-LIC-LOCATION:America/New_York
BEGIN:STANDARD
DTSTART:20241103T020000
RRULE:FREQ=YEARLY;BYDAY=1SU;BYMONTH=11
TZNAME:EST
TZOFFSETFROM:-0400
TZOFFSETTO:-0500
END:STANDARD
BEGIN:DAYLIGHT
DTSTART:20250309T020000
RRULE:FREQ=YEARLY;BYDAY=2SU;BYMONTH=3
TZNAME:EDT
TZOFFSETFROM:-0500
TZOFFSETTO:-0400
END:DAYLIGHT
END:VTIMEZONE
BEGIN:VEVENT
DESCRIPTION:2023 Annual Meeting by the American Academy of Neurology\n\nTi
 tle: Neuro-ophthalmology/Neuro-otology\n\nAccess URL: https://www.aan.com
 /msa/Public/Events/GetEventURL/15619\n\nLearn More About This Event: http
 s://www.aan.com/msa/Public/Events/Details/15619
DTEND;TZID=Eastern Standard Time:20230424T121500
DTSTAMP:20260424T053352Z
DTSTART;TZID=Eastern Standard Time:20230424T111500
LOCATION:https://www.aan.com/msa/Public/Events/GetEventURL/15619
SEQUENCE:0
SUMMARY:AAN: Neuro-ophthalmology/Neuro-otology
UID:9d25193a-47e4-4b16-b68e-c5a9cfa3933e
END:VEVENT
END:VCALENDAR
