BEGIN:VCALENDAR
PRODID:-//github.com/rianjs/ical.net//NONSGML ical.net 4.0//EN
VERSION:2.0
BEGIN:VTIMEZONE
TZID:Eastern Standard Time
X-LIC-LOCATION:America/New_York
BEGIN:STANDARD
DTSTART:20241103T020000
RRULE:FREQ=YEARLY;BYDAY=1SU;BYMONTH=11
TZNAME:EST
TZOFFSETFROM:-0400
TZOFFSETTO:-0500
END:STANDARD
BEGIN:DAYLIGHT
DTSTART:20250309T020000
RRULE:FREQ=YEARLY;BYDAY=2SU;BYMONTH=3
TZNAME:EDT
TZOFFSETFROM:-0500
TZOFFSETTO:-0400
END:DAYLIGHT
END:VTIMEZONE
BEGIN:VEVENT
DESCRIPTION:2023 Annual Meeting by the American Academy of Neurology\n\nTi
 tle: Innovative Diagnostics in Dementia\n\nAccess URL: https://www.aan.co
 m/msa/Public/Events/GetEventURL/15622\n\nLearn More About This Event: htt
 ps://www.aan.com/msa/Public/Events/Details/15622
DTEND;TZID=Eastern Standard Time:20230424T150000
DTSTAMP:20260424T053421Z
DTSTART;TZID=Eastern Standard Time:20230424T130000
LOCATION:https://www.aan.com/msa/Public/Events/GetEventURL/15622
SEQUENCE:0
SUMMARY:AAN: Innovative Diagnostics in Dementia
UID:e2bcf229-f4b7-4dd3-bc57-8cbe9cbe29ff
END:VEVENT
END:VCALENDAR
