BEGIN:VCALENDAR
PRODID:-//github.com/rianjs/ical.net//NONSGML ical.net 4.0//EN
VERSION:2.0
BEGIN:VTIMEZONE
TZID:Eastern Standard Time
X-LIC-LOCATION:America/New_York
BEGIN:STANDARD
DTSTART:20241103T020000
RRULE:FREQ=YEARLY;BYDAY=1SU;BYMONTH=11
TZNAME:EST
TZOFFSETFROM:-0400
TZOFFSETTO:-0500
END:STANDARD
BEGIN:DAYLIGHT
DTSTART:20250309T020000
RRULE:FREQ=YEARLY;BYDAY=2SU;BYMONTH=3
TZNAME:EDT
TZOFFSETFROM:-0500
TZOFFSETTO:-0400
END:DAYLIGHT
END:VTIMEZONE
BEGIN:VEVENT
DESCRIPTION:2023 Annual Meeting by the American Academy of Neurology\n\nTi
 tle: Cerebrovascular Disease and Interventional Neurology: Clinical Trial
 s and Outcomes Studies\n\nAccess URL: https://www.aan.com/msa/Public/Even
 ts/GetEventURL/15627\n\nLearn More About This Event: https://www.aan.com/
 msa/Public/Events/Details/15627
DTEND;TZID=Eastern Standard Time:20230424T173000
DTSTAMP:20260424T053310Z
DTSTART;TZID=Eastern Standard Time:20230424T153000
LOCATION:https://www.aan.com/msa/Public/Events/GetEventURL/15627
SEQUENCE:0
SUMMARY:AAN: Cerebrovascular Disease and Interventional Neurology: Clinica
 l Trials and Outcomes Studies
UID:1c531ba6-ac12-4302-ada8-570b70d66d1a
END:VEVENT
END:VCALENDAR
