BEGIN:VCALENDAR
PRODID:-//github.com/rianjs/ical.net//NONSGML ical.net 4.0//EN
VERSION:2.0
BEGIN:VTIMEZONE
TZID:Eastern Standard Time
X-LIC-LOCATION:America/New_York
BEGIN:STANDARD
DTSTART:20241103T020000
RRULE:FREQ=YEARLY;BYDAY=1SU;BYMONTH=11
TZNAME:EST
TZOFFSETFROM:-0400
TZOFFSETTO:-0500
END:STANDARD
BEGIN:DAYLIGHT
DTSTART:20250309T020000
RRULE:FREQ=YEARLY;BYDAY=2SU;BYMONTH=3
TZNAME:EDT
TZOFFSETFROM:-0500
TZOFFSETTO:-0400
END:DAYLIGHT
END:VTIMEZONE
BEGIN:VEVENT
DESCRIPTION:2023 Annual Meeting by the American Academy of Neurology\n\nTi
 tle: Acute and Post-Acute Sequelae of COVID-19\n\nAccess URL: https://www
 .aan.com/msa/Public/Events/GetEventURL/15628\n\nLearn More About This Eve
 nt: https://www.aan.com/msa/Public/Events/Details/15628
DTEND;TZID=Eastern Standard Time:20230424T173000
DTSTAMP:20260424T053202Z
DTSTART;TZID=Eastern Standard Time:20230424T153000
LOCATION:https://www.aan.com/msa/Public/Events/GetEventURL/15628
SEQUENCE:0
SUMMARY:AAN: Acute and Post-Acute Sequelae of COVID-19
UID:b535ef00-d35a-457f-a7ff-8ac610a7b333
END:VEVENT
END:VCALENDAR
