BEGIN:VCALENDAR
PRODID:-//github.com/rianjs/ical.net//NONSGML ical.net 4.0//EN
VERSION:2.0
BEGIN:VTIMEZONE
TZID:Eastern Standard Time
X-LIC-LOCATION:America/New_York
BEGIN:STANDARD
DTSTART:20241103T020000
RRULE:FREQ=YEARLY;BYDAY=1SU;BYMONTH=11
TZNAME:EST
TZOFFSETFROM:-0400
TZOFFSETTO:-0500
END:STANDARD
BEGIN:DAYLIGHT
DTSTART:20250309T020000
RRULE:FREQ=YEARLY;BYDAY=2SU;BYMONTH=3
TZNAME:EDT
TZOFFSETFROM:-0500
TZOFFSETTO:-0400
END:DAYLIGHT
END:VTIMEZONE
BEGIN:VEVENT
DESCRIPTION:2023 Annual Meeting by the American Academy of Neurology\n\nTi
 tle: Cerebrovascular Disease and Interventional Neurology: Endovascular T
 hrombectomy and Large Vessel Occlusions\n\nAccess URL: https://www.aan.co
 m/msa/Public/Events/GetEventURL/15632\n\nLearn More About This Event: htt
 ps://www.aan.com/msa/Public/Events/Details/15632
DTEND;TZID=Eastern Standard Time:20230425T150000
DTSTAMP:20260424T053303Z
DTSTART;TZID=Eastern Standard Time:20230425T130000
LOCATION:https://www.aan.com/msa/Public/Events/GetEventURL/15632
SEQUENCE:0
SUMMARY:AAN: Cerebrovascular Disease and Interventional Neurology: Endovas
 cular Thrombectomy and Large Vessel Occlusions
UID:4cdfbb11-7f0f-46f4-bb1c-f48492e80f39
END:VEVENT
END:VCALENDAR
