BEGIN:VCALENDAR
PRODID:-//github.com/rianjs/ical.net//NONSGML ical.net 4.0//EN
VERSION:2.0
BEGIN:VTIMEZONE
TZID:Eastern Standard Time
X-LIC-LOCATION:America/New_York
BEGIN:STANDARD
DTSTART:20241103T020000
RRULE:FREQ=YEARLY;BYDAY=1SU;BYMONTH=11
TZNAME:EST
TZOFFSETFROM:-0400
TZOFFSETTO:-0500
END:STANDARD
BEGIN:DAYLIGHT
DTSTART:20250309T020000
RRULE:FREQ=YEARLY;BYDAY=2SU;BYMONTH=3
TZNAME:EDT
TZOFFSETFROM:-0500
TZOFFSETTO:-0400
END:DAYLIGHT
END:VTIMEZONE
BEGIN:VEVENT
DESCRIPTION:2023 Annual Meeting by the American Academy of Neurology\n\nTi
 tle: Autoimmune Neurology: Stiff Person Syndrome/GAD65 Neurological Autoi
 mmunity\, CIDP\, and MOGAD\n\nAccess URL: https://www.aan.com/msa/Public/
 Events/GetEventURL/15649\n\nLearn More About This Event: https://www.aan.
 com/msa/Public/Events/Details/15649
DTEND;TZID=Eastern Standard Time:20230426T173000
DTSTAMP:20260424T053454Z
DTSTART;TZID=Eastern Standard Time:20230426T153000
LOCATION:https://www.aan.com/msa/Public/Events/GetEventURL/15649
SEQUENCE:0
SUMMARY:AAN: Autoimmune Neurology: Stiff Person Syndrome/GAD65 Neurologica
 l Autoimmunity\, CIDP\, and MOGAD
UID:6c72a688-6a40-4126-a620-cf2abf6f4972
END:VEVENT
END:VCALENDAR
