BEGIN:VCALENDAR
PRODID:-//github.com/rianjs/ical.net//NONSGML ical.net 4.0//EN
VERSION:2.0
BEGIN:VTIMEZONE
TZID:Eastern Standard Time
X-LIC-LOCATION:America/New_York
BEGIN:STANDARD
DTSTART:20241103T020000
RRULE:FREQ=YEARLY;BYDAY=1SU;BYMONTH=11
TZNAME:EST
TZOFFSETFROM:-0400
TZOFFSETTO:-0500
END:STANDARD
BEGIN:DAYLIGHT
DTSTART:20250309T020000
RRULE:FREQ=YEARLY;BYDAY=2SU;BYMONTH=3
TZNAME:EDT
TZOFFSETFROM:-0500
TZOFFSETTO:-0400
END:DAYLIGHT
END:VTIMEZONE
BEGIN:VEVENT
DESCRIPTION:2023 Annual Meeting by the American Academy of Neurology\n\nTi
 tle: Epilepsy/Clinical Neurophysiology (EEG): Epilepsy Outcomes\n\nAccess
  URL: https://www.aan.com/msa/Public/Events/GetEventURL/15653\n\nLearn Mo
 re About This Event: https://www.aan.com/msa/Public/Events/Details/15653
DTEND;TZID=Eastern Standard Time:20230427T150000
DTSTAMP:20260424T053429Z
DTSTART;TZID=Eastern Standard Time:20230427T130000
LOCATION:https://www.aan.com/msa/Public/Events/GetEventURL/15653
SEQUENCE:0
SUMMARY:AAN: Epilepsy/Clinical Neurophysiology (EEG): Epilepsy Outcomes
UID:53df2155-7e40-4e24-be1e-200dc4ee215b
END:VEVENT
END:VCALENDAR
