BEGIN:VCALENDAR
PRODID:-//github.com/rianjs/ical.net//NONSGML ical.net 4.0//EN
VERSION:2.0
BEGIN:VTIMEZONE
TZID:Eastern Standard Time
X-LIC-LOCATION:America/New_York
BEGIN:STANDARD
DTSTART:20241103T020000
RRULE:FREQ=YEARLY;BYDAY=1SU;BYMONTH=11
TZNAME:EST
TZOFFSETFROM:-0400
TZOFFSETTO:-0500
END:STANDARD
BEGIN:DAYLIGHT
DTSTART:20250309T020000
RRULE:FREQ=YEARLY;BYDAY=2SU;BYMONTH=3
TZNAME:EDT
TZOFFSETFROM:-0500
TZOFFSETTO:-0400
END:DAYLIGHT
END:VTIMEZONE
BEGIN:VEVENT
DESCRIPTION:2023 Annual Meeting by the American Academy of Neurology\n\nTi
 tle: Industry Therapeutic Update from Supernus Pharmaceuticals\, Inc.: In
 creasing Good ON Time while Reducing OFF and dyskinesia in Patients with 
 Parkinson's disease (PD)\n\nAccess URL: https://www.aan.com/msa/Public/Ev
 ents/GetEventURL/15662\n\nLearn More About This Event: https://www.aan.co
 m/msa/Public/Events/Details/15662
DTEND;TZID=Eastern Standard Time:20230422T124500
DTSTAMP:20260424T053313Z
DTSTART;TZID=Eastern Standard Time:20230422T114500
LOCATION:https://www.aan.com/msa/Public/Events/GetEventURL/15662
SEQUENCE:0
SUMMARY:AAN: Industry Therapeutic Update from Supernus Pharmaceuticals\, I
 nc.: Increasing Good ON Time while Reducing OFF and dyskinesia in Patient
 s with Parkinson's disease (PD)
UID:a87273c3-e524-420d-8481-b2ac5d599ab5
END:VEVENT
END:VCALENDAR
