BEGIN:VCALENDAR
PRODID:-//github.com/rianjs/ical.net//NONSGML ical.net 4.0//EN
VERSION:2.0
BEGIN:VTIMEZONE
TZID:Eastern Standard Time
X-LIC-LOCATION:America/New_York
BEGIN:STANDARD
DTSTART:20241103T020000
RRULE:FREQ=YEARLY;BYDAY=1SU;BYMONTH=11
TZNAME:EST
TZOFFSETFROM:-0400
TZOFFSETTO:-0500
END:STANDARD
BEGIN:DAYLIGHT
DTSTART:20250309T020000
RRULE:FREQ=YEARLY;BYDAY=2SU;BYMONTH=3
TZNAME:EDT
TZOFFSETFROM:-0500
TZOFFSETTO:-0400
END:DAYLIGHT
END:VTIMEZONE
BEGIN:VEVENT
DESCRIPTION:2023 Annual Meeting by the American Academy of Neurology\n\nTi
 tle: Industry Therapeutic Update from UCB: Sharpening the Lens\, a Focus 
 on Myasthenia Gravis Care\n\nAccess URL: https://www.aan.com/msa/Public/E
 vents/GetEventURL/15667\n\nLearn More About This Event: https://www.aan.c
 om/msa/Public/Events/Details/15667
DTEND;TZID=Eastern Standard Time:20230425T124500
DTSTAMP:20260424T053201Z
DTSTART;TZID=Eastern Standard Time:20230425T114500
LOCATION:https://www.aan.com/msa/Public/Events/GetEventURL/15667
SEQUENCE:0
SUMMARY:AAN: Industry Therapeutic Update from UCB: Sharpening the Lens\, a
  Focus on Myasthenia Gravis Care
UID:31837fd8-bc7b-421d-8946-f5e1b6c90b9c
END:VEVENT
END:VCALENDAR
