BEGIN:VCALENDAR
PRODID:-//github.com/rianjs/ical.net//NONSGML ical.net 4.0//EN
VERSION:2.0
BEGIN:VTIMEZONE
TZID:Eastern Standard Time
X-LIC-LOCATION:America/New_York
BEGIN:STANDARD
DTSTART:20241103T020000
RRULE:FREQ=YEARLY;BYDAY=1SU;BYMONTH=11
TZNAME:EST
TZOFFSETFROM:-0400
TZOFFSETTO:-0500
END:STANDARD
BEGIN:DAYLIGHT
DTSTART:20250309T020000
RRULE:FREQ=YEARLY;BYDAY=2SU;BYMONTH=3
TZNAME:EDT
TZOFFSETFROM:-0500
TZOFFSETTO:-0400
END:DAYLIGHT
END:VTIMEZONE
BEGIN:VEVENT
DESCRIPTION:2023 Annual Meeting by the American Academy of Neurology\n\nTi
 tle: Industry Therapeutic Update from Lundbeck: Migraine: Your patient\, 
 your partner. Proactive care for patients with high frequency\, worsening
  disease.\n\nAccess URL: https://www.aan.com/msa/Public/Events/GetEventUR
 L/15668\n\nLearn More About This Event: https://www.aan.com/msa/Public/Ev
 ents/Details/15668
DTEND;TZID=Eastern Standard Time:20230426T124500
DTSTAMP:20260424T053455Z
DTSTART;TZID=Eastern Standard Time:20230426T114500
LOCATION:https://www.aan.com/msa/Public/Events/GetEventURL/15668
SEQUENCE:0
SUMMARY:AAN: Industry Therapeutic Update from Lundbeck: Migraine: Your pat
 ient\, your partner. Proactive care for patients with high frequency\, wo
 rsening disease.
UID:3e392649-0915-41b1-9851-0ba781a969db
END:VEVENT
END:VCALENDAR
