BEGIN:VCALENDAR
PRODID:-//github.com/rianjs/ical.net//NONSGML ical.net 4.0//EN
VERSION:2.0
BEGIN:VTIMEZONE
TZID:Eastern Standard Time
X-LIC-LOCATION:America/New_York
BEGIN:STANDARD
DTSTART:20241103T020000
RRULE:FREQ=YEARLY;BYDAY=1SU;BYMONTH=11
TZNAME:EST
TZOFFSETFROM:-0400
TZOFFSETTO:-0500
END:STANDARD
BEGIN:DAYLIGHT
DTSTART:20250309T020000
RRULE:FREQ=YEARLY;BYDAY=2SU;BYMONTH=3
TZNAME:EDT
TZOFFSETFROM:-0500
TZOFFSETTO:-0400
END:DAYLIGHT
END:VTIMEZONE
BEGIN:VEVENT
DESCRIPTION:2023 Annual Meeting by the American Academy of Neurology\n\nTi
 tle: Industry Therapeutic Update from Roche Diagnostics: Fluid Biomarkers
  Reflecting Alzheimer's Disease Pathology and their Applications in the C
 linical Care Pathway\n\nAccess URL: https://www.aan.com/msa/Public/Events
 /GetEventURL/15672\n\nLearn More About This Event: https://www.aan.com/ms
 a/Public/Events/Details/15672
DTEND;TZID=Eastern Standard Time:20230425T210000
DTSTAMP:20260424T053203Z
DTSTART;TZID=Eastern Standard Time:20230425T180000
LOCATION:https://www.aan.com/msa/Public/Events/GetEventURL/15672
SEQUENCE:0
SUMMARY:AAN: Industry Therapeutic Update from Roche Diagnostics: Fluid Bio
 markers Reflecting Alzheimer's Disease Pathology and their Applications i
 n the Clinical Care Pathway
UID:4ed9da19-2f87-4035-b32f-721275f8e6b6
END:VEVENT
END:VCALENDAR
