BEGIN:VCALENDAR
PRODID:-//github.com/rianjs/ical.net//NONSGML ical.net 4.0//EN
VERSION:2.0
BEGIN:VTIMEZONE
TZID:Eastern Standard Time
X-LIC-LOCATION:America/New_York
BEGIN:STANDARD
DTSTART:20241103T020000
RRULE:FREQ=YEARLY;BYDAY=1SU;BYMONTH=11
TZNAME:EST
TZOFFSETFROM:-0400
TZOFFSETTO:-0500
END:STANDARD
BEGIN:DAYLIGHT
DTSTART:20250309T020000
RRULE:FREQ=YEARLY;BYDAY=2SU;BYMONTH=3
TZNAME:EDT
TZOFFSETFROM:-0500
TZOFFSETTO:-0400
END:DAYLIGHT
END:VTIMEZONE
BEGIN:VEVENT
DESCRIPTION:2023 Annual Meeting by the American Academy of Neurology\n\nTi
 tle: Industry Therapeutic Update from Genentech: Un-Silencing “Silent” Pr
 ogression: Next Generation Perspectives on Addressing Disability Early in
  MS\n\nAccess URL: https://www.aan.com/msa/Public/Events/GetEventURL/1567
 3\n\nLearn More About This Event: https://www.aan.com/msa/Public/Events/D
 etails/15673
DTEND;TZID=Eastern Standard Time:20230422T210000
DTSTAMP:20260424T053603Z
DTSTART;TZID=Eastern Standard Time:20230422T180000
LOCATION:https://www.aan.com/msa/Public/Events/GetEventURL/15673
SEQUENCE:0
SUMMARY:AAN: Industry Therapeutic Update from Genentech: Un-Silencing “Sil
 ent” Progression: Next Generation Perspectives on Addressing Disability E
 arly in MS
UID:4f4a579c-4d63-4eb4-91ad-981eaee9391d
END:VEVENT
END:VCALENDAR
