BEGIN:VCALENDAR
PRODID:-//github.com/rianjs/ical.net//NONSGML ical.net 4.0//EN
VERSION:2.0
BEGIN:VTIMEZONE
TZID:Eastern Standard Time
X-LIC-LOCATION:America/New_York
BEGIN:STANDARD
DTSTART:20241103T020000
RRULE:FREQ=YEARLY;BYDAY=1SU;BYMONTH=11
TZNAME:EST
TZOFFSETFROM:-0400
TZOFFSETTO:-0500
END:STANDARD
BEGIN:DAYLIGHT
DTSTART:20250309T020000
RRULE:FREQ=YEARLY;BYDAY=2SU;BYMONTH=3
TZNAME:EDT
TZOFFSETFROM:-0500
TZOFFSETTO:-0400
END:DAYLIGHT
END:VTIMEZONE
BEGIN:VEVENT
DESCRIPTION:2023 Annual Meeting by the American Academy of Neurology\n\nTi
 tle: Industry Therapeutic Update from AbbVie: Rethinking Migraine: Review
 ing New Data For The Treatment And Prevention Of Migraine Attacks\n\nAcce
 ss URL: https://www.aan.com/msa/Public/Events/GetEventURL/15699\n\nLearn 
 More About This Event: https://www.aan.com/msa/Public/Events/Details/1569
 9
DTEND;TZID=Eastern Standard Time:20230424T210000
DTSTAMP:20260424T053204Z
DTSTART;TZID=Eastern Standard Time:20230424T180000
LOCATION:https://www.aan.com/msa/Public/Events/GetEventURL/15699
SEQUENCE:0
SUMMARY:AAN: Industry Therapeutic Update from AbbVie: Rethinking Migraine:
  Reviewing New Data For The Treatment And Prevention Of Migraine Attacks
UID:1bf310fb-5361-4406-9e18-6fa81b832f27
END:VEVENT
END:VCALENDAR
