BEGIN:VCALENDAR
PRODID:-//github.com/rianjs/ical.net//NONSGML ical.net 4.0//EN
VERSION:2.0
BEGIN:VTIMEZONE
TZID:Eastern Standard Time
X-LIC-LOCATION:America/New_York
BEGIN:STANDARD
DTSTART:20241103T020000
RRULE:FREQ=YEARLY;BYDAY=1SU;BYMONTH=11
TZNAME:EST
TZOFFSETFROM:-0400
TZOFFSETTO:-0500
END:STANDARD
BEGIN:DAYLIGHT
DTSTART:20250309T020000
RRULE:FREQ=YEARLY;BYDAY=2SU;BYMONTH=3
TZNAME:EDT
TZOFFSETFROM:-0500
TZOFFSETTO:-0400
END:DAYLIGHT
END:VTIMEZONE
BEGIN:VEVENT
DESCRIPTION:2023 Annual Meeting by the American Academy of Neurology\n\nTi
 tle: Industry Therapeutic Update from Sanofi: Smoldering Neuroinflammatio
 n: Cells and Biomarkers in the CNS\n\nAccess URL: https://www.aan.com/msa
 /Public/Events/GetEventURL/15706\n\nLearn More About This Event: https://
 www.aan.com/msa/Public/Events/Details/15706
DTEND;TZID=Eastern Standard Time:20230425T210000
DTSTAMP:20260424T053204Z
DTSTART;TZID=Eastern Standard Time:20230425T180000
LOCATION:https://www.aan.com/msa/Public/Events/GetEventURL/15706
SEQUENCE:0
SUMMARY:AAN: Industry Therapeutic Update from Sanofi: Smoldering Neuroinfl
 ammation: Cells and Biomarkers in the CNS
UID:44fcc0ec-de2b-4b77-8455-1e0971fc617d
END:VEVENT
END:VCALENDAR
