BEGIN:VCALENDAR
PRODID:-//github.com/rianjs/ical.net//NONSGML ical.net 4.0//EN
VERSION:2.0
BEGIN:VTIMEZONE
TZID:Eastern Standard Time
X-LIC-LOCATION:America/New_York
BEGIN:STANDARD
DTSTART:20241103T020000
RRULE:FREQ=YEARLY;BYDAY=1SU;BYMONTH=11
TZNAME:EST
TZOFFSETFROM:-0400
TZOFFSETTO:-0500
END:STANDARD
BEGIN:DAYLIGHT
DTSTART:20250309T020000
RRULE:FREQ=YEARLY;BYDAY=2SU;BYMONTH=3
TZNAME:EDT
TZOFFSETFROM:-0500
TZOFFSETTO:-0400
END:DAYLIGHT
END:VTIMEZONE
BEGIN:VEVENT
DESCRIPTION:2023 Annual Meeting by the American Academy of Neurology\n\nTi
 tle: Music and Neurology: When Music Sings\, the Brain Listens\, and the 
 Heart Modulates (HeadTalks)\n\nAccess URL: https://www.aan.com/msa/Public
 /Events/GetEventURL/15710\n\nLearn More About This Event: https://www.aan
 .com/msa/Public/Events/Details/15710
DTEND;TZID=Eastern Standard Time:20230422T123000
DTSTAMP:20260424T070433Z
DTSTART;TZID=Eastern Standard Time:20230422T110000
LOCATION:https://www.aan.com/msa/Public/Events/GetEventURL/15710
SEQUENCE:0
SUMMARY:AAN: Music and Neurology: When Music Sings\, the Brain Listens\, a
 nd the Heart Modulates (HeadTalks)
UID:4fd8caa5-0789-4760-ab95-f44136037160
END:VEVENT
END:VCALENDAR
