BEGIN:VCALENDAR
PRODID:-//github.com/rianjs/ical.net//NONSGML ical.net 4.0//EN
VERSION:2.0
BEGIN:VTIMEZONE
TZID:Eastern Standard Time
X-LIC-LOCATION:America/New_York
BEGIN:STANDARD
DTSTART:20241103T020000
RRULE:FREQ=YEARLY;BYDAY=1SU;BYMONTH=11
TZNAME:EST
TZOFFSETFROM:-0400
TZOFFSETTO:-0500
END:STANDARD
BEGIN:DAYLIGHT
DTSTART:20250309T020000
RRULE:FREQ=YEARLY;BYDAY=2SU;BYMONTH=3
TZNAME:EDT
TZOFFSETFROM:-0500
TZOFFSETTO:-0400
END:DAYLIGHT
END:VTIMEZONE
BEGIN:VEVENT
DESCRIPTION:2023 Annual Meeting by the American Academy of Neurology\n\nTi
 tle: Women in Neurology and Wellness (HeadTalks)\n\nAccess URL: https://w
 ww.aan.com/msa/Public/Events/GetEventURL/15712\n\nLearn More About This E
 vent: https://www.aan.com/msa/Public/Events/Details/15712
DTEND;TZID=Eastern Standard Time:20230423T084500
DTSTAMP:20260424T053352Z
DTSTART;TZID=Eastern Standard Time:20230423T080000
LOCATION:https://www.aan.com/msa/Public/Events/GetEventURL/15712
SEQUENCE:0
SUMMARY:AAN: Women in Neurology and Wellness (HeadTalks)
UID:c41b1300-2bb5-4bd1-a234-7092cb3d8f23
END:VEVENT
END:VCALENDAR
