BEGIN:VCALENDAR
PRODID:-//github.com/rianjs/ical.net//NONSGML ical.net 4.0//EN
VERSION:2.0
BEGIN:VTIMEZONE
TZID:Eastern Standard Time
X-LIC-LOCATION:America/New_York
BEGIN:STANDARD
DTSTART:20241103T020000
RRULE:FREQ=YEARLY;BYDAY=1SU;BYMONTH=11
TZNAME:EST
TZOFFSETFROM:-0400
TZOFFSETTO:-0500
END:STANDARD
BEGIN:DAYLIGHT
DTSTART:20250309T020000
RRULE:FREQ=YEARLY;BYDAY=2SU;BYMONTH=3
TZNAME:EDT
TZOFFSETFROM:-0500
TZOFFSETTO:-0400
END:DAYLIGHT
END:VTIMEZONE
BEGIN:VEVENT
DESCRIPTION:2023 Annual Meeting by the American Academy of Neurology\n\nTi
 tle: Creating Your Social Media Brand (HeadTalks)\n\nAccess URL: https://
 www.aan.com/msa/Public/Events/GetEventURL/15716\n\nLearn More About This 
 Event: https://www.aan.com/msa/Public/Events/Details/15716
DTEND;TZID=Eastern Standard Time:20230424T161500
DTSTAMP:20260424T070431Z
DTSTART;TZID=Eastern Standard Time:20230424T153000
LOCATION:https://www.aan.com/msa/Public/Events/GetEventURL/15716
SEQUENCE:0
SUMMARY:AAN: Creating Your Social Media Brand (HeadTalks)
UID:9ce99512-6466-44cd-bd62-32b48de96faf
END:VEVENT
END:VCALENDAR
