BEGIN:VCALENDAR
PRODID:-//github.com/rianjs/ical.net//NONSGML ical.net 4.0//EN
VERSION:2.0
BEGIN:VTIMEZONE
TZID:Eastern Standard Time
X-LIC-LOCATION:America/New_York
BEGIN:STANDARD
DTSTART:20241103T020000
RRULE:FREQ=YEARLY;BYDAY=1SU;BYMONTH=11
TZNAME:EST
TZOFFSETFROM:-0400
TZOFFSETTO:-0500
END:STANDARD
BEGIN:DAYLIGHT
DTSTART:20250309T020000
RRULE:FREQ=YEARLY;BYDAY=2SU;BYMONTH=3
TZNAME:EDT
TZOFFSETFROM:-0500
TZOFFSETTO:-0400
END:DAYLIGHT
END:VTIMEZONE
BEGIN:VEVENT
DESCRIPTION:2023 Annual Meeting by the American Academy of Neurology\n\nTi
 tle: Consejos Prácticos para un Buen Examen Neurológico (Neuro Exam Tips 
 and Tricks) (HeadTalks)\n\nAccess URL: https://www.aan.com/msa/Public/Eve
 nts/GetEventURL/15717\n\nLearn More About This Event: https://www.aan.com
 /msa/Public/Events/Details/15717
DTEND;TZID=Eastern Standard Time:20230425T134500
DTSTAMP:20260424T053353Z
DTSTART;TZID=Eastern Standard Time:20230425T130000
LOCATION:https://www.aan.com/msa/Public/Events/GetEventURL/15717
SEQUENCE:0
SUMMARY:AAN: Consejos Prácticos para un Buen Examen Neurológico (Neuro Exa
 m Tips and Tricks) (HeadTalks)
UID:b26143d8-d4d9-474d-b1a9-ab2b5748caf6
END:VEVENT
END:VCALENDAR
