BEGIN:VCALENDAR
PRODID:-//github.com/rianjs/ical.net//NONSGML ical.net 4.0//EN
VERSION:2.0
BEGIN:VTIMEZONE
TZID:Eastern Standard Time
X-LIC-LOCATION:America/New_York
BEGIN:STANDARD
DTSTART:20241103T020000
RRULE:FREQ=YEARLY;BYDAY=1SU;BYMONTH=11
TZNAME:EST
TZOFFSETFROM:-0400
TZOFFSETTO:-0500
END:STANDARD
BEGIN:DAYLIGHT
DTSTART:20250309T020000
RRULE:FREQ=YEARLY;BYDAY=2SU;BYMONTH=3
TZNAME:EDT
TZOFFSETFROM:-0500
TZOFFSETTO:-0400
END:DAYLIGHT
END:VTIMEZONE
BEGIN:VEVENT
DESCRIPTION:2023 Annual Meeting by the American Academy of Neurology\n\nTi
 tle: 75th Anniversary Celebration\n\nDescription: Celebrate the AAN’s 75t
 h Anniversary with friends and colleagues on Sunday\, April 23\, at the M
 useum of Science in Boston. Guests can experience and enjoy the museum’s 
 exhibits\, Mugar Omni Theater\, and Charles Hayden Planetarium.\n\n- Free
  shuttles to and from the event. Shuttle times and routes will be availab
 le in April.\n- One complimentary ticket included with registration (RSVP
  required\, based on availability)\n- Add guest tickets for  $120 each (g
 uests must be over 21 years old). \n- RSVP and purchase guest tickets by 
 logging into your registration. \n\nLearn More About This Event: https://
 www.aan.com/msa/Public/Events/Details/15719
DTEND;TZID=Eastern Standard Time:20230423T220000
DTSTAMP:20260424T053350Z
DTSTART;TZID=Eastern Standard Time:20230423T190000
LOCATION:https://www.aan.com/msa/Public/Events/GetEventURL/15719
SEQUENCE:0
SUMMARY:AAN: 75th Anniversary Celebration
UID:a05065c1-90d2-4ff8-8c35-3713bf7484aa
END:VEVENT
END:VCALENDAR
