BEGIN:VCALENDAR
PRODID:-//github.com/rianjs/ical.net//NONSGML ical.net 4.0//EN
VERSION:2.0
BEGIN:VTIMEZONE
TZID:Eastern Standard Time
X-LIC-LOCATION:America/New_York
BEGIN:STANDARD
DTSTART:20241103T020000
RRULE:FREQ=YEARLY;BYDAY=1SU;BYMONTH=11
TZNAME:EST
TZOFFSETFROM:-0400
TZOFFSETTO:-0500
END:STANDARD
BEGIN:DAYLIGHT
DTSTART:20250309T020000
RRULE:FREQ=YEARLY;BYDAY=2SU;BYMONTH=3
TZNAME:EDT
TZOFFSETFROM:-0500
TZOFFSETTO:-0400
END:DAYLIGHT
END:VTIMEZONE
BEGIN:VEVENT
DESCRIPTION:2023 Annual Meeting by the American Academy of Neurology\n\nTi
 tle: Trainee and Faculty Networking Reception\n\nDescription: The Trainee
  and Faculty Networking Reception offers opportunities for medical studen
 ts\, residents\, and fellows to network with peers and leaders in a space
  conducive for making connections that further trainee career development
 . \n \nThis reception aims to encourage faculty members to network with t
 rainees. Faculty are invited to share their own professional endeavors an
 d discuss the  prospects of residency\, clerkship\, fellowships\, and oth
 er career opportunities within the field of neurology. \n\nContact Lucy P
 ersaud\, Associate Director\, Trainee Education at lpersaud@aan.com or Be
 n Stoddart\,  Senior Trainee Education Administrator\, at bstoddart@aan.c
 om \nwith any questions.\n\nLearn More About This Event: https://www.aan.
 com/msa/Public/Events/Details/15720
DTEND;TZID=Eastern Standard Time:20230424T200000
DTSTAMP:20260424T053353Z
DTSTART;TZID=Eastern Standard Time:20230424T180000
LOCATION:https://www.aan.com/msa/Public/Events/GetEventURL/15720
SEQUENCE:0
SUMMARY:AAN: Trainee and Faculty Networking Reception
UID:e9562054-ae5e-4847-84a6-2b99a1d9063c
END:VEVENT
END:VCALENDAR
