BEGIN:VCALENDAR
PRODID:-//github.com/rianjs/ical.net//NONSGML ical.net 4.0//EN
VERSION:2.0
BEGIN:VTIMEZONE
TZID:Eastern Standard Time
X-LIC-LOCATION:America/New_York
BEGIN:STANDARD
DTSTART:20241103T020000
RRULE:FREQ=YEARLY;BYDAY=1SU;BYMONTH=11
TZNAME:EST
TZOFFSETFROM:-0400
TZOFFSETTO:-0500
END:STANDARD
BEGIN:DAYLIGHT
DTSTART:20250309T020000
RRULE:FREQ=YEARLY;BYDAY=2SU;BYMONTH=3
TZNAME:EDT
TZOFFSETFROM:-0500
TZOFFSETTO:-0400
END:DAYLIGHT
END:VTIMEZONE
BEGIN:VEVENT
DESCRIPTION:2023 Annual Meeting by the American Academy of Neurology\n\nTi
 tle: Attendee Happy Hour\n\nDescription: Happy hour is the best hour! Eat
 \, drink\, and connect at the happy hours to mingle with colleagues. Free
  beverages and light appetizers provided. \n\nLearn More About This Event
 : https://www.aan.com/msa/Public/Events/Details/15723
DTEND;TZID=Eastern Standard Time:20230422T170000
DTSTAMP:20260424T070432Z
DTSTART;TZID=Eastern Standard Time:20230422T160000
LOCATION:https://www.aan.com/msa/Public/Events/GetEventURL/15723
SEQUENCE:0
SUMMARY:AAN: Attendee Happy Hour
UID:f3797af3-6dd6-4568-8624-f8d70b6b40fd
END:VEVENT
END:VCALENDAR
