BEGIN:VCALENDAR
PRODID:-//github.com/rianjs/ical.net//NONSGML ical.net 4.0//EN
VERSION:2.0
BEGIN:VTIMEZONE
TZID:Eastern Standard Time
X-LIC-LOCATION:America/New_York
BEGIN:STANDARD
DTSTART:20241103T020000
RRULE:FREQ=YEARLY;BYDAY=1SU;BYMONTH=11
TZNAME:EST
TZOFFSETFROM:-0400
TZOFFSETTO:-0500
END:STANDARD
BEGIN:DAYLIGHT
DTSTART:20250309T020000
RRULE:FREQ=YEARLY;BYDAY=2SU;BYMONTH=3
TZNAME:EDT
TZOFFSETFROM:-0500
TZOFFSETTO:-0400
END:DAYLIGHT
END:VTIMEZONE
BEGIN:VEVENT
DESCRIPTION:2023 Annual Meeting by the American Academy of Neurology\n\nTi
 tle: Attendee Happy Hour\n\nDescription: Happy hour is the best hour! Eat
 \, drink\, and connect at the happy hours to mingle with colleagues. Free
  beverages and light appetizers provided. \n\n\nLearn More About This Eve
 nt: https://www.aan.com/msa/Public/Events/Details/15725
DTEND;TZID=Eastern Standard Time:20230425T173000
DTSTAMP:20260424T053310Z
DTSTART;TZID=Eastern Standard Time:20230425T163000
LOCATION:https://www.aan.com/msa/Public/Events/GetEventURL/15725
SEQUENCE:0
SUMMARY:AAN: Attendee Happy Hour
UID:093c3a3f-3c4c-4ea2-88f1-518c209ffe8b
END:VEVENT
END:VCALENDAR
