BEGIN:VCALENDAR
PRODID:-//github.com/rianjs/ical.net//NONSGML ical.net 4.0//EN
VERSION:2.0
BEGIN:VTIMEZONE
TZID:Eastern Standard Time
X-LIC-LOCATION:America/New_York
BEGIN:STANDARD
DTSTART:20241103T020000
RRULE:FREQ=YEARLY;BYDAY=1SU;BYMONTH=11
TZNAME:EST
TZOFFSETFROM:-0400
TZOFFSETTO:-0500
END:STANDARD
BEGIN:DAYLIGHT
DTSTART:20250309T020000
RRULE:FREQ=YEARLY;BYDAY=2SU;BYMONTH=3
TZNAME:EDT
TZOFFSETFROM:-0500
TZOFFSETTO:-0400
END:DAYLIGHT
END:VTIMEZONE
BEGIN:VEVENT
DESCRIPTION:2023 Annual Meeting by the American Academy of Neurology\n\nTi
 tle: Commitment to Cures Gala\n\nDescription: Join your colleagues for th
 e American Brain Foundation’s Commitment to Cures Gala at the beautiful n
 ew Omni Boston Hotel at the Seaport to celebrate and support brain diseas
 e research. Jim Cramer from CNBC’s Mad Money will be the evening’s host a
 long with special guests\, including musician Peter Frampton. The gala be
 gins with a cocktail reception\, followed by dinner and the program. \nPu
 rchase your ticket with registration or at https://www.americanbrainfound
 ation.org/c2c2023/. \n\nLearn More About This Event: https://www.aan.com/
 msa/Public/Events/Details/15731
DTEND;TZID=Eastern Standard Time:20230426T220000
DTSTAMP:20260424T053509Z
DTSTART;TZID=Eastern Standard Time:20230426T180000
LOCATION:https://www.aan.com/msa/Public/Events/GetEventURL/15731
SEQUENCE:0
SUMMARY:AAN: Commitment to Cures Gala
UID:80cdbfad-64b0-409c-830f-98bac1744181
END:VEVENT
END:VCALENDAR
