BEGIN:VCALENDAR
PRODID:-//github.com/rianjs/ical.net//NONSGML ical.net 4.0//EN
VERSION:2.0
BEGIN:VTIMEZONE
TZID:Eastern Standard Time
X-LIC-LOCATION:America/New_York
BEGIN:STANDARD
DTSTART:20241103T020000
RRULE:FREQ=YEARLY;BYDAY=1SU;BYMONTH=11
TZNAME:EST
TZOFFSETFROM:-0400
TZOFFSETTO:-0500
END:STANDARD
BEGIN:DAYLIGHT
DTSTART:20250309T020000
RRULE:FREQ=YEARLY;BYDAY=2SU;BYMONTH=3
TZNAME:EDT
TZOFFSETFROM:-0500
TZOFFSETTO:-0400
END:DAYLIGHT
END:VTIMEZONE
BEGIN:VEVENT
DESCRIPTION:2023 Annual Meeting by the American Academy of Neurology\n\nTi
 tle: The Intersection of Wellness and Equitable Inclusion (Wellness Hub)\
 n\nAccess URL: https://www.aan.com/msa/Public/Events/GetEventURL/15754\n\
 nLearn More About This Event: https://www.aan.com/msa/Public/Events/Detai
 ls/15754
DTEND;TZID=Eastern Standard Time:20230422T133000
DTSTAMP:20260424T053430Z
DTSTART;TZID=Eastern Standard Time:20230422T130000
LOCATION:https://www.aan.com/msa/Public/Events/GetEventURL/15754
SEQUENCE:0
SUMMARY:AAN: The Intersection of Wellness and Equitable Inclusion (Wellnes
 s Hub)
UID:079c8253-4c5a-4cb7-ab03-d37ff8c1be65
END:VEVENT
END:VCALENDAR
