BEGIN:VCALENDAR
PRODID:-//github.com/rianjs/ical.net//NONSGML ical.net 4.0//EN
VERSION:2.0
BEGIN:VTIMEZONE
TZID:Eastern Standard Time
X-LIC-LOCATION:America/New_York
BEGIN:STANDARD
DTSTART:20241103T020000
RRULE:FREQ=YEARLY;BYDAY=1SU;BYMONTH=11
TZNAME:EST
TZOFFSETFROM:-0400
TZOFFSETTO:-0500
END:STANDARD
BEGIN:DAYLIGHT
DTSTART:20250309T020000
RRULE:FREQ=YEARLY;BYDAY=2SU;BYMONTH=3
TZNAME:EDT
TZOFFSETFROM:-0500
TZOFFSETTO:-0400
END:DAYLIGHT
END:VTIMEZONE
BEGIN:VEVENT
DESCRIPTION:2023 Annual Meeting by the American Academy of Neurology\n\nTi
 tle: Enhancing Personal and Professional Well-being Through Appreciative 
 Inquiry (Wellness Hub)\n\nAccess URL: https://www.aan.com/msa/Public/Even
 ts/GetEventURL/15762\n\nLearn More About This Event: https://www.aan.com/
 msa/Public/Events/Details/15762
DTEND;TZID=Eastern Standard Time:20230426T143000
DTSTAMP:20260424T053455Z
DTSTART;TZID=Eastern Standard Time:20230426T140000
LOCATION:https://www.aan.com/msa/Public/Events/GetEventURL/15762
SEQUENCE:0
SUMMARY:AAN: Enhancing Personal and Professional Well-being Through Apprec
 iative Inquiry (Wellness Hub)
UID:c1f1817c-7d42-48df-b86e-0bb6d3b07be8
END:VEVENT
END:VCALENDAR
