BEGIN:VCALENDAR
PRODID:-//github.com/rianjs/ical.net//NONSGML ical.net 4.0//EN
VERSION:2.0
BEGIN:VTIMEZONE
TZID:Eastern Standard Time
X-LIC-LOCATION:America/New_York
BEGIN:STANDARD
DTSTART:20241103T020000
RRULE:FREQ=YEARLY;BYDAY=1SU;BYMONTH=11
TZNAME:EST
TZOFFSETFROM:-0400
TZOFFSETTO:-0500
END:STANDARD
BEGIN:DAYLIGHT
DTSTART:20250309T020000
RRULE:FREQ=YEARLY;BYDAY=2SU;BYMONTH=3
TZNAME:EDT
TZOFFSETFROM:-0500
TZOFFSETTO:-0400
END:DAYLIGHT
END:VTIMEZONE
BEGIN:VEVENT
DESCRIPTION:2023 Annual Meeting by the American Academy of Neurology\n\nTi
 tle: Fireside Chat: Controversies in Neurology Plenary Session (Research 
 Hub)\n\nAccess URL: https://www.aan.com/msa/Public/Events/GetEventURL/157
 64\n\nLearn More About This Event: https://www.aan.com/msa/Public/Events/
 Details/15764
DTEND;TZID=Eastern Standard Time:20230422T120000
DTSTAMP:20260423T213615Z
DTSTART;TZID=Eastern Standard Time:20230422T113000
LOCATION:https://www.aan.com/msa/Public/Events/GetEventURL/15764
SEQUENCE:0
SUMMARY:AAN: Fireside Chat: Controversies in Neurology Plenary Session (Re
 search Hub)
UID:f806b5a5-ae47-4b88-af03-5dde467f21e7
END:VEVENT
END:VCALENDAR
