BEGIN:VCALENDAR
PRODID:-//github.com/rianjs/ical.net//NONSGML ical.net 4.0//EN
VERSION:2.0
BEGIN:VTIMEZONE
TZID:Eastern Standard Time
X-LIC-LOCATION:America/New_York
BEGIN:STANDARD
DTSTART:20241103T020000
RRULE:FREQ=YEARLY;BYDAY=1SU;BYMONTH=11
TZNAME:EST
TZOFFSETFROM:-0400
TZOFFSETTO:-0500
END:STANDARD
BEGIN:DAYLIGHT
DTSTART:20250309T020000
RRULE:FREQ=YEARLY;BYDAY=2SU;BYMONTH=3
TZNAME:EDT
TZOFFSETFROM:-0500
TZOFFSETTO:-0400
END:DAYLIGHT
END:VTIMEZONE
BEGIN:VEVENT
DESCRIPTION:2023 Annual Meeting by the American Academy of Neurology\n\nTi
 tle: Columbia University\, The Neurological Institute of New York 2022 Al
 umni Reception (Non-AAN Sponsored Event)\n\nDescription: The event is an 
 annual reception for alumni of The Neurological Institute of New York\, C
 olumbia University. This year it will be in honor of Dr. Blair Ford\, our
  former Residency Director\, who passed away in August 2022\n\nLearn More
  About This Event: https://www.aan.com/msa/Public/Events/Details/15795
DTEND;TZID=Eastern Standard Time:20230425T200000
DTSTAMP:20260424T053512Z
DTSTART;TZID=Eastern Standard Time:20230425T180000
LOCATION:https://www.aan.com/msa/Public/Events/GetEventURL/15795
SEQUENCE:0
SUMMARY:AAN: Columbia University\, The Neurological Institute of New York 
 2022 Alumni Reception (Non-AAN Sponsored Event)
UID:ee116279-0413-43f0-adc2-a13483fee70b
END:VEVENT
END:VCALENDAR
